BEGIN:VCALENDAR
VERSION:2.0
PRODID:-//monky skateboards - ECPv6.15.20//NONSGML v1.0//EN
CALSCALE:GREGORIAN
METHOD:PUBLISH
X-WR-CALNAME:monky skateboards
X-ORIGINAL-URL:https://monkyskateboards.com
X-WR-CALDESC:Eventos para monky skateboards
REFRESH-INTERVAL;VALUE=DURATION:PT1H
X-Robots-Tag:noindex
X-PUBLISHED-TTL:PT1H
BEGIN:VTIMEZONE
TZID:Europe/Madrid
BEGIN:DAYLIGHT
TZOFFSETFROM:+0100
TZOFFSETTO:+0200
TZNAME:CEST
DTSTART:20240331T010000
END:DAYLIGHT
BEGIN:STANDARD
TZOFFSETFROM:+0200
TZOFFSETTO:+0100
TZNAME:CET
DTSTART:20241027T010000
END:STANDARD
BEGIN:DAYLIGHT
TZOFFSETFROM:+0100
TZOFFSETTO:+0200
TZNAME:CEST
DTSTART:20250330T010000
END:DAYLIGHT
BEGIN:STANDARD
TZOFFSETFROM:+0200
TZOFFSETTO:+0100
TZNAME:CET
DTSTART:20251026T010000
END:STANDARD
BEGIN:DAYLIGHT
TZOFFSETFROM:+0100
TZOFFSETTO:+0200
TZNAME:CEST
DTSTART:20260329T010000
END:DAYLIGHT
BEGIN:STANDARD
TZOFFSETFROM:+0200
TZOFFSETTO:+0100
TZNAME:CET
DTSTART:20261025T010000
END:STANDARD
END:VTIMEZONE
BEGIN:VEVENT
DTSTART;TZID=Europe/Madrid:20250621T090000
DTEND;TZID=Europe/Madrid:20250621T170000
DTSTAMP:20260421T131206
CREATED:20250527T181716Z
LAST-MODIFIED:20250529T080948Z
UID:6749-1750496400-1750525200@monkyskateboards.com
SUMMARY:FINGERBOARD CONTEST MADRID 2025
DESCRIPTION:FINGERBOARD CONTEST MADRID 2025\n¡Atención fingerboarders! \nGuardad bien esta fecha: 21 de junio 📅\nLlega el primer evento de fingerboard con premio en metálico para los 3 finalistas\, y se celebrará en Alcalá de Henares\, Madrid.\nCompetencia\, comunidad y mucha pasión por el fingeboard. ¡No te lo puedes perder! \n💖🫡 Mil gracias a todas las marcas y personas que están apoyando este proyecto y lo hacen posible.\nNos vemos muy pronto… \n  \n  \nSponsor\nEn esta ocasión contamos con el apoyo de grandes marcas que han aportado premios increíbles para los finalistas.\n¡Gracias por hacer esto posible! \nCaramel\, JEM\, Vitium\, Sulka\, Hop\, Kinkalla \nPublicado Monky Skateboards
URL:https://monkyskateboards.com/event/fingerboard-contest-madrid-2025/
LOCATION:Centro FIA\, C. Paula Montal\, Alcalá de Henares\, Madrid\, 28806\, Spain
CATEGORIES:eventos skateboard,fingerboard
ATTACH;FMTTYPE=image/jpeg:https://monkyskateboards.com/wp-content/uploads/2025/05/fingerboard-contest-2025-madrid.jpg
END:VEVENT
END:VCALENDAR