BEGIN:VCALENDAR
VERSION:2.0
PRODID:-//monky skateboards - ECPv6.15.20//NONSGML v1.0//EN
CALSCALE:GREGORIAN
METHOD:PUBLISH
X-ORIGINAL-URL:https://monkyskateboards.com
X-WR-CALDESC:Eventos para monky skateboards
REFRESH-INTERVAL;VALUE=DURATION:PT1H
X-Robots-Tag:noindex
X-PUBLISHED-TTL:PT1H
BEGIN:VTIMEZONE
TZID:Europe/Madrid
BEGIN:DAYLIGHT
TZOFFSETFROM:+0100
TZOFFSETTO:+0200
TZNAME:CEST
DTSTART:20240331T010000
END:DAYLIGHT
BEGIN:STANDARD
TZOFFSETFROM:+0200
TZOFFSETTO:+0100
TZNAME:CET
DTSTART:20241027T010000
END:STANDARD
BEGIN:DAYLIGHT
TZOFFSETFROM:+0100
TZOFFSETTO:+0200
TZNAME:CEST
DTSTART:20250330T010000
END:DAYLIGHT
BEGIN:STANDARD
TZOFFSETFROM:+0200
TZOFFSETTO:+0100
TZNAME:CET
DTSTART:20251026T010000
END:STANDARD
BEGIN:DAYLIGHT
TZOFFSETFROM:+0100
TZOFFSETTO:+0200
TZNAME:CEST
DTSTART:20260329T010000
END:DAYLIGHT
BEGIN:STANDARD
TZOFFSETFROM:+0200
TZOFFSETTO:+0100
TZNAME:CET
DTSTART:20261025T010000
END:STANDARD
END:VTIMEZONE
BEGIN:VEVENT
DTSTART;TZID=Europe/Madrid:20250807T080000
DTEND;TZID=Europe/Madrid:20250810T230000
DTSTAMP:20260423T230018
CREATED:20250612T115651Z
LAST-MODIFIED:20260112T141958Z
UID:6808-1754553600-1754866800@monkyskateboards.com
SUMMARY:OMARISQUIÑO 2025
DESCRIPTION:OMARISQUIÑO 2025\n  \n\nNo podíamos celebrar el 25 aniversario de Marisquiño sin uno de los platos fuertes de los últimos años. Este 2025\, el Big Air vuelve a rugir en Vigo con una exhibición que promete emociones fuertes. Una selección de los mejores riders nacionales e internacionales se darán cita en la playa de Samil para intentar planchar el mejor truco (Best Trick) sobre una infraestructura de vértigo pensada para\, literalmente\, volar. \nRiders confirmados\nEntre los riders confirmados podemos anunciar la presencia de Bievenido Aguado\, leyenda del MTB más extremo y habitual del festival desde hace más de una década; Adolf Silva\, uno de los riders más radicales del mundo tanto en MTB como en FMX; el legendario Jed Mildon\, pionero del BMX y primer rider en planchar el Quad Backflip; Miguel Guerrero ‘Carolo’\, el ídolo local y varias veces ganador de este Best Trick; y alguna otra sorpresa que todavía no podemos desvelar. \n\n\nLa rampa\nDesde una plataforma de 12 metros de altura\, los riders alcanzarán más de 50 km/h en una rampa con un 45% de inclinación\, antes de despegar desde un salto de 3\,5 metros hacia una colchoneta Airbag de 10×14 metros\, donde ejecutarán sus trucos con total seguridad y sin límites. \nFormato\nLa acción arrancará el viernes por la tarde con una sesión de entrenamientos libres. Pero lo más potente llegará el sábado y el domingo por la tarde\, con dos sesiones de Best Trick Contest de 90 minutos cada una\, y 1.500€ en premios cada día para los trucos más bestias del evento. Trucos que en más de una ocasión no se han visto en ninguna otra parte. \nSíguenos en @omarisquino y en web para estar atento a las confirmaciones de riders\, así como horarios y otras novedades de esta y de las otras disciplinas de nuestro 25 aniversario. Y prepárate para vivir una de las competiciones más espectaculares del festival. ¡Auténticos vuelos sin motor! \n\n\nTHE COUNTDOWN FOR THE 25TH ANNIVERSARY IS ON!\n7-10/08/25 -> #OM25\nPublicado By Monky Skateboards
URL:https://monkyskateboards.com/event/omarisquino-2025/
LOCATION:Playa Samil\, Av. Samil\, 32\, Vigo\, Pontevedra\, 36212\, España
CATEGORIES:competicion skate,eventos skateboard,miniramp,skate
ATTACH;FMTTYPE=image/png:https://monkyskateboards.com/wp-content/uploads/2025/06/omarisquino2025.png
ORGANIZER;CN="omarrisqui%C3%B1o":MAILTO:info@omarisquino.com
END:VEVENT
BEGIN:VEVENT
DTSTART;TZID=Europe/Madrid:20250809T100000
DTEND;TZID=Europe/Madrid:20250810T180000
DTSTAMP:20260423T230018
CREATED:20250515T132758Z
LAST-MODIFIED:20250806T144449Z
UID:6719-1754733600-1754848800@monkyskateboards.com
SUMMARY:FINGERBOARD CON BARCELONA
DESCRIPTION:FINGERBOARD CON BARCELONA\nEN \nWe’re fresh off an unforgettable Fingerboard Con in Boston\, and the energy was unreal. Now it’s Barcelona’s turn to shine! \nThe European scene is coming together for “FBCon Barcelona” on Sunday\, August 10 🇪🇸 \nFingerboard Con will be held at the Renaissance Barcelona Fira Hotel\, with special hotel rates available for attendees\, or explore plenty of other great stays all around the city! \nGet ready for two full days of fingerboarding action and contests:\n– August 9 – An event hosted by Berta and the locals from the Barcelona fingerboard community – 📍Mau Mau Calle Fontrodona 35\, Barcelona 17:H – 22:00H\n– August 10 – The main event: Fingerboard Con Barcelona! \nVendor applications are OPEN – Lock in your table and rep your brand. \nBarcelona\, we’ll see you soon! \nFBCon Barcelona Ticket Sales here. \nES \nAcabamos de salir de una inolvidable Fingerboard Con en Boston\, y la energía fue increíble. ¡Ahora le toca a Barcelona brillar! \nLa escena europea se une para la FBCon Barcelona el Domingo 10 de agosto 🇪🇸 \nFingerboard Con se celebrará en el Renaissance Barcelona Fira Hotel\, con tarifas especiales para los asistentes. ¡O explora un montón de otras opciones de alojamiento geniales por toda la ciudad! \nPrepárate para dos días llenos de acción y concursos de fingerboard:\n– 9 de agosto: Un evento organizado por Berta y la comunidad local de fingerboard de Barcelona. – 📍 Mau Mau Calle Fontrodona 35\, Barcelona 17:H – 22:00H\n– 10 de agosto: El evento principal: ¡Fingerboard Con Barcelona! 11:00H – 18:00H \nEl plazo de inscripción para proveedores está abierto: reserva tu mesa y representa tu marca. \n¡Barcelona\, ​​nos vemos pronto! \nVenta de tickets para FBCon Barcelona aquí \nPublicado By Monky Fingerboards
URL:https://monkyskateboards.com/event/fingerboard-con-barcelona/
LOCATION:Renaissance Barcelona Fira Hotel\, Pl. d'Europa\, 50-52\, Barcelona\, Barcelona\, 08902\, Spain
CATEGORIES:eventos skateboard,fingerboard
ATTACH;FMTTYPE=image/jpeg:https://monkyskateboards.com/wp-content/uploads/2025/05/FBCon-BARCELONA.jpg
END:VEVENT
BEGIN:VEVENT
DTSTART;TZID=Europe/Madrid:20250809T170000
DTEND;TZID=Europe/Madrid:20250809T220000
DTSTAMP:20260423T230018
CREATED:20250805T062914Z
LAST-MODIFIED:20250805T062954Z
UID:6820-1754758800-1754776800@monkyskateboards.com
SUMMARY:MASTER OF BARCELONA 2025
DESCRIPTION:MASTER OF BARCELONA 2025\n🚨 MASTERS OF BARCELONA IS BACK 🚨\nAfter some time off we’re back with an event we’re especially excited about and one we’re sure will leave a lasting impression on the entire scene.\nGet ready for a weekend full of fingerboarding with FBCON BCN 2025! \n📍 Mau Mau (Carrer d’En Fontrodona 35\, Barcelona)\n🗓 August 9th\, 2025\n🕔 5PM – 10PM \n+ Raffle 🎁 \n+ Secret Morning Contest🏆🌅 \n+ Highest Kickflip 🛹 \nSee you there!✨ \nOrganizers – MOB\nSupported by – @kinkallafb @lowpro.pt\nCollaborators – @blackriver_official @slushcult @6skates\n—————————— \n🚨 MASTERS OF BARCELONA IS BACK 🚨\nDespués de un tiempo en silencio volvemos con un evento que nos hace especial ilusión y que estamos seguros de que marcará a toda la escena.\nPreparáos para un fin de semana lleno de fingerboarding junto a la FBCON BCN 2025!! \n📍 Mau Mau (Carrer d’En Fontrodona 35\, Barcelona)\n🗓 9 de agosto 2025\n🕔 17h – 22h \n+ Raffle 🎁 \n+ Secret Morning Contest 🏆🌅\n(atentos los días antes del 09/08) \n+ Highest Kickflip 🛹 \nOs esperamos! ✨ \nOrganizan – MOB\nApoyan – @kinkallafb @lowpro.pt\nColaboran – @blackriver_official @slushcult @6skates \nPublicado By Monky Skateboards
URL:https://monkyskateboards.com/event/master-of-barcelona-2025/
LOCATION:Mau Mau\, Carrer d'En Fontrodona\, 35\, Sants-Montjuïc\, Barcelona\, Barcelona\, 08004\, Spain
CATEGORIES:eventos skateboard,fingerboard
ATTACH;FMTTYPE=image/jpeg:https://monkyskateboards.com/wp-content/uploads/2025/08/master-of-barcelona-2025.jpg
END:VEVENT
END:VCALENDAR