BEGIN:VCALENDAR
VERSION:2.0
PRODID:-//monky skateboards - ECPv6.15.20//NONSGML v1.0//EN
CALSCALE:GREGORIAN
METHOD:PUBLISH
X-ORIGINAL-URL:https://monkyskateboards.com
X-WR-CALDESC:Eventos para monky skateboards
REFRESH-INTERVAL;VALUE=DURATION:PT1H
X-Robots-Tag:noindex
X-PUBLISHED-TTL:PT1H
BEGIN:VTIMEZONE
TZID:Europe/Madrid
BEGIN:DAYLIGHT
TZOFFSETFROM:+0100
TZOFFSETTO:+0200
TZNAME:CEST
DTSTART:20230326T010000
END:DAYLIGHT
BEGIN:STANDARD
TZOFFSETFROM:+0200
TZOFFSETTO:+0100
TZNAME:CET
DTSTART:20231029T010000
END:STANDARD
BEGIN:DAYLIGHT
TZOFFSETFROM:+0100
TZOFFSETTO:+0200
TZNAME:CEST
DTSTART:20240331T010000
END:DAYLIGHT
BEGIN:STANDARD
TZOFFSETFROM:+0200
TZOFFSETTO:+0100
TZNAME:CET
DTSTART:20241027T010000
END:STANDARD
BEGIN:DAYLIGHT
TZOFFSETFROM:+0100
TZOFFSETTO:+0200
TZNAME:CEST
DTSTART:20250330T010000
END:DAYLIGHT
BEGIN:STANDARD
TZOFFSETFROM:+0200
TZOFFSETTO:+0100
TZNAME:CET
DTSTART:20251026T010000
END:STANDARD
END:VTIMEZONE
BEGIN:VEVENT
DTSTART;TZID=Europe/Madrid:20240504T100000
DTEND;TZID=Europe/Madrid:20240505T200000
DTSTAMP:20260421T162751
CREATED:20240503T181815Z
LAST-MODIFIED:20260112T142214Z
UID:6416-1714816800-1714939200@monkyskateboards.com
SUMMARY:FINGERBOARD WEEKEND BY KNOT
DESCRIPTION:FINGERBOARD WEEKEND BY KNOT\n  \nTe esperamos este 4 y 5 de mayo en the skate hub 🛹 \nabran sorteos\, competiciones venta de material entre otras sorpresas. \nOrganiza @knotfingerboards \n  \nPublicado By Monky Skateboards \n  \n 
URL:https://monkyskateboards.com/event/fingerboard-weekend-by-knot/
LOCATION:The skate hub\, Carrer del Crom\, 3\, L' Hospitalet de llobregat\, Barcelona\, 08907\, España
CATEGORIES:eventos skateboard,fingerboard
ATTACH;FMTTYPE=image/jpeg:https://monkyskateboards.com/wp-content/uploads/2024/05/knot-fingerboard.jpg
END:VEVENT
END:VCALENDAR